BEGIN:VCALENDAR
VERSION:2.0
PRODID:-// - ECPv6.15.12.2//NONSGML v1.0//EN
CALSCALE:GREGORIAN
METHOD:PUBLISH
X-ORIGINAL-URL:http://rcdlu.org
X-WR-CALDESC:Events for 
REFRESH-INTERVAL;VALUE=DURATION:PT1H
X-Robots-Tag:noindex
X-PUBLISHED-TTL:PT1H
BEGIN:VTIMEZONE
TZID:Asia/Dhaka
BEGIN:STANDARD
TZOFFSETFROM:+0600
TZOFFSETTO:+0600
TZNAME:+06
DTSTART:20230101T000000
END:STANDARD
END:VTIMEZONE
BEGIN:VTIMEZONE
TZID:UTC
BEGIN:STANDARD
TZOFFSETFROM:+0000
TZOFFSETTO:+0000
TZNAME:UTC
DTSTART:20210101T000000
END:STANDARD
END:VTIMEZONE
BEGIN:VEVENT
DTSTART;TZID=Asia/Dhaka:20250112T180000
DTEND;TZID=Asia/Dhaka:20250112T200000
DTSTAMP:20260423T153548
CREATED:20250107T181410Z
LAST-MODIFIED:20250107T181410Z
UID:1531-1736704800-1736712000@rcdlu.org
SUMMARY:3rd Board meeting and 237th Regular Meeting
DESCRIPTION:Dhaka Luminous plans to hold its 3rd Board meeting for RY2024-25 on 12th January 2025 followed by 237th Regular Meeting.
URL:http://rcdlu.org/event/3rd-board-meeting-and-237th-regular-meeting/
LOCATION:Chef’s Table – Gulshan 1\, Level-5\, United House\, 10 Gulshan Avenue\, Gulshan - 1\, Dhaka\, 1212\, Bangladesh
CATEGORIES:General meeting
END:VEVENT
BEGIN:VEVENT
DTSTART;TZID=Asia/Dhaka:20240721T193000
DTEND;TZID=Asia/Dhaka:20240721T203000
DTSTAMP:20260423T153548
CREATED:20240714T123749Z
LAST-MODIFIED:20240714T123749Z
UID:1314-1721590200-1721593800@rcdlu.org
SUMMARY:228th General Meeting
DESCRIPTION:We are pleased to invite you to join us for the regular meeting of the Rotary Club of Rotary Club of Dhaka Luminous. As a community-oriented organization dedicated to service\, fellowship\, and personal growth\, we believe you will find our meetings both enriching and enjoyable. \nDetails of the Meeting: \nDate: 21 July 2024\nTime: 7:30 PM to 8:30 PM\nVenue: Chef’s Table- Gulshan 1\nAddress: Level-5\, United House\, 10 Gulshan Avenue\, Gulshan – 1\, Dhaka-1212. \nThis meeting provides an excellent opportunity to meet and network with fellow community leaders\, learn about the impactful projects we are undertaking\, and discover ways you can contribute to making a difference. We value your presence and believe your involvement will greatly benefit our club and the community. Please notify club president beforehand of your attendance.
URL:http://rcdlu.org/event/228th-general-meeting/
LOCATION:Chef’s Table – Gulshan 1\, Level-5\, United House\, 10 Gulshan Avenue\, Gulshan - 1\, Dhaka\, 1212\, Bangladesh
CATEGORIES:General meeting
END:VEVENT
BEGIN:VEVENT
DTSTART;TZID=Asia/Dhaka:20240707T193000
DTEND;TZID=Asia/Dhaka:20240707T203000
DTSTAMP:20260423T153548
CREATED:20240710T123939Z
LAST-MODIFIED:20240714T124303Z
UID:1317-1720380600-1720384200@rcdlu.org
SUMMARY:227th General Meeting
DESCRIPTION:We are pleased to invite you to join us for the regular meeting of the Rotary Club of Rotary Club of Dhaka Luminous. As a community-oriented organization dedicated to service\, fellowship\, and personal growth\, we believe you will find our meetings both enriching and enjoyable. \nDetails of the Meeting: \nDate: 07 July 2024\nTime: 7:30 PM to 8:30 PM\nVenue: Ajo Idea Space – Gulshan\nAddress: Road -101\, House – 12\, Gulshan – 2\, Dhaka City 1212 Bangladesh. \nThis meeting provides an excellent opportunity to meet and network with fellow community leaders\, learn about the impactful projects we are undertaking\, and discover ways you can contribute to making a difference. We value your presence and believe your involvement will greatly benefit our club and the community. Please notify club president beforehand of your attendance.
URL:http://rcdlu.org/event/227th-general-meeting/
LOCATION:Ajo Idea Space – Gulshan\, Road -101\, House - 12\, Gulshan - 2\,\, Dhaka\, 1212\, Bangladesh
CATEGORIES:Club Meeting,General meeting
END:VEVENT
BEGIN:VEVENT
DTSTART;TZID=UTC:20220905T190000
DTEND;TZID=UTC:20220905T200000
DTSTAMP:20260423T153548
CREATED:20220821T001250Z
LAST-MODIFIED:20220821T001250Z
UID:861-1662404400-1662408000@rcdlu.org
SUMMARY:185th General Meeting
DESCRIPTION:Rtn. Mohammad Abdullah\, President of Rotary Club of Dhaka Luminous is inviting you to join 185th fortnightly general meeting.
URL:http://rcdlu.org/event/185th-general-meeting/
LOCATION:Hotel Bengal Canary Park\, Plot #08\, Rd No 16A\, Gulshan-1\, Dhaka\, 212
CATEGORIES:Club Meeting,General meeting
END:VEVENT
BEGIN:VEVENT
DTSTART;TZID=UTC:20220821T190000
DTEND;TZID=UTC:20220821T200000
DTSTAMP:20260423T153548
CREATED:20220814T123232Z
LAST-MODIFIED:20220821T000903Z
UID:854-1661108400-1661112000@rcdlu.org
SUMMARY:184th General Meeting
DESCRIPTION:Rtn. Mohammad Abdullah\, President of RCDL for RY 2022-23 is inviting you to join 184th fortnightly general meeting.
URL:http://rcdlu.org/event/184th-general-meeting/
LOCATION:Hotel Bengal Canary Park\, Plot #08\, Rd No 16A\, Gulshan-1\, Dhaka\, 212
CATEGORIES:Club Meeting,General meeting
END:VEVENT
BEGIN:VEVENT
DTSTART;TZID=UTC:20220814T170000
DTEND;TZID=UTC:20220814T220000
DTSTAMP:20260423T153548
CREATED:20220814T123821Z
LAST-MODIFIED:20220814T123821Z
UID:858-1660496400-1660514400@rcdlu.org
SUMMARY:Governor’s Official Club Visit & 60 Club’s joint installation program
DESCRIPTION:Governor’s Official Club Visit & 60 Club’s joint installation program to be held at Celebrity Convention Hall located at Gulshan 1 on 14th August 2022.
URL:http://rcdlu.org/event/governors-official-club-visit-60-clubs-joint-installation-program/
CATEGORIES:Club Meeting,General meeting
END:VEVENT
BEGIN:VEVENT
DTSTART;TZID=UTC:20220807T190000
DTEND;TZID=UTC:20220807T200000
DTSTAMP:20260423T153548
CREATED:20220814T123001Z
LAST-MODIFIED:20220814T123535Z
UID:851-1659898800-1659902400@rcdlu.org
SUMMARY:183rd General Meeting
DESCRIPTION:Rtn. Mohammad Abdullah\, President of RCDL for RY 2022-23 is inviting you to join 183rd fortnightly general meeting.
URL:http://rcdlu.org/event/183rd-general-meeting/
LOCATION:Hotel Grace 21 Smart Hotel\, House #1 & 3\, Road #21\, Nikunja 2\,\, Dhaka\, 1229\, Bangladesh
CATEGORIES:Club Meeting,General meeting
END:VEVENT
BEGIN:VEVENT
DTSTART;TZID=UTC:20220724T190000
DTEND;TZID=UTC:20220724T200000
DTSTAMP:20260423T153548
CREATED:20220717T233330Z
LAST-MODIFIED:20220717T233330Z
UID:790-1658689200-1658692800@rcdlu.org
SUMMARY:182nd General Meeting
DESCRIPTION:Rtn. Mohammad Abdullah\, President of RCDL for RY 2022-23 is inviting you to join 182nd fortnightly general meeting.
URL:http://rcdlu.org/event/182nd-general-meeting/
LOCATION:Hotel Grace 21 Smart Hotel\, House #1 & 3\, Road #21\, Nikunja 2\,\, Dhaka\, 1229\, Bangladesh
CATEGORIES:Club Meeting,General meeting
END:VEVENT
END:VCALENDAR